0.5000000000
0.0000000000
0.0000000000
-0.5000000000
1687000.2500000000
7138999.7500000000
